
BEGIN:VCALENDAR
VERSION:2.0
PRODID:-//wp-events-plugin.com//7.2.3.1//EN
TZID:Europe/Berlin
X-WR-TIMEZONE:Europe/Berlin
BEGIN:VEVENT
UID:439@zbbs-sh.de
DTSTART;TZID=Europe/Berlin:20181116T190000
DTEND;TZID=Europe/Berlin:20181116T190000
DTSTAMP:20230619T135356Z
URL:https://www.zbbs-sh.de/events/essen-fuer-3-benefizveranstaltung-fuer-f
 amilienzusammenfuehrung/
SUMMARY:Essen für 3 - Benefizveranstaltung für Familienzusammenführung
DESCRIPTION:
END:VEVENT
BEGIN:VTIMEZONE
TZID:Europe/Berlin
X-LIC-LOCATION:Europe/Berlin
BEGIN:STANDARD
DTSTART:20181028T020000
TZOFFSETFROM:+0200
TZOFFSETTO:+0100
TZNAME:CET
END:STANDARD
END:VTIMEZONE
END:VCALENDAR