
BEGIN:VCALENDAR
VERSION:2.0
PRODID:-//wp-events-plugin.com//7.2.3.1//EN
TZID:Europe/Berlin
X-WR-TIMEZONE:Europe/Berlin
BEGIN:VEVENT
UID:555@zbbs-sh.de
DTSTART;TZID=Europe/Berlin:20171128T140000
DTEND;TZID=Europe/Berlin:20171128T180000
DTSTAMP:20230619T135527Z
URL:https://www.zbbs-sh.de/events/fachtagung-gefluechtete-mit-behinderung/
SUMMARY:Fachtagung - Geflüchtete mit Behinderung
DESCRIPTION:&nbsp\;\n\nDie Veranstalter*innen laden geflüchtete Menschen m
 it Behinderung\nein\, um mit ihnen über ihre neue Lebenssituation in Deut
 schland\nzu sprechen.\n\nFür detaillierte Informationen über die Tagung 
 und Anmeldung siehe bitte im Anhang:\n\nGeflüchtete mit Behinderung Einla
 dung WEB\n\n&nbsp\;\n\n&nbsp\;
LOCATION:Universität Kiel\, Christian-Albrechts-Platz 3\, Kiel\, Schleswig
 -Holstein\, 24118\, Deutschland
GEO:47.4;1.6
X-APPLE-STRUCTURED-LOCATION;VALUE=URI;X-ADDRESS=Christian-Albrechts-Platz 3
 \, Kiel\, Schleswig-Holstein\, 24118\, Deutschland;X-APPLE-RADIUS=100;X-TI
 TLE=Universität Kiel:geo:47.4,1.6
END:VEVENT
BEGIN:VTIMEZONE
TZID:Europe/Berlin
X-LIC-LOCATION:Europe/Berlin
BEGIN:STANDARD
DTSTART:20171029T020000
TZOFFSETFROM:+0200
TZOFFSETTO:+0100
TZNAME:CET
END:STANDARD
END:VTIMEZONE
END:VCALENDAR