
BEGIN:VCALENDAR
VERSION:2.0
PRODID:-//wp-events-plugin.com//7.2.3.1//EN
TZID:Europe/Berlin
X-WR-TIMEZONE:Europe/Berlin
BEGIN:VEVENT
UID:498@zbbs-sh.de
DTSTART;TZID=Europe/Berlin:20180607T153000
DTEND;TZID=Europe/Berlin:20180607T153000
DTSTAMP:20230619T135441Z
URL:https://www.zbbs-sh.de/events/fahrradkurs-fuer-frauen-women-cycling-co
 urse/
SUMMARY:Fahrradkurs für Frauen* - Women* Cycling Course
DESCRIPTION:\n\n\n\n\n\n\n&nbsp\;\n\n\n\n\n\n\n\n\n\nFahrradkurs für Fraue
 n* - Women* Cycling Course in Kiel-Gaarden\n\n\n\n
END:VEVENT
BEGIN:VTIMEZONE
TZID:Europe/Berlin
X-LIC-LOCATION:Europe/Berlin
BEGIN:DAYLIGHT
DTSTART:20180325T030000
TZOFFSETFROM:+0100
TZOFFSETTO:+0200
TZNAME:CEST
END:DAYLIGHT
END:VTIMEZONE
END:VCALENDAR