
BEGIN:VCALENDAR
VERSION:2.0
PRODID:-//wp-events-plugin.com//7.2.3.1//EN
TZID:Europe/Berlin
X-WR-TIMEZONE:Europe/Berlin
BEGIN:VEVENT
UID:506@zbbs-sh.de
DTSTART;TZID=Europe/Berlin:20180525T150000
DTEND;TZID=Europe/Berlin:20180525T150000
DTSTAMP:20230619T135442Z
URL:https://www.zbbs-sh.de/events/gaertnern-im-interkulturellen-garten-zus
 ammenwachsen-29/
SUMMARY:Gärtnern im Interkulturellen Garten "ZusammenWachsen"
DESCRIPTION:&nbsp\;\n\nJeden Freitag ab 15:00 Uhr treffen wir uns im Interk
 ulturellen Garten Kiel im Sport- und Begegnungspark in Gaarden\, um gemein
 sam zu gärtnern\, uns auszutauschen und zu spielen. Wir pflanzen Obst und
  Gemüse an\, erfreuen uns an Kräutern und Blumen und/oder reden über al
 les was uns bewegt. Bei gutem Wetter feuern wir unseren Grill an. Kommt vo
 rbei und bereichert den Garten durch eure Tatkraft und eure Ideen!\n\nWegb
 eschreibung ZusammenWachsen\n\nwegbeschreibung20150622_interkultureller-ga
 rten\nPDF-Dokument [204.0 KB]\n\nKontakt:\nAnnette Tempelmann\n\n 	tempelm
 ann(at)zbbs-sh.de\n 	0176 76902809\n
END:VEVENT
BEGIN:VTIMEZONE
TZID:Europe/Berlin
X-LIC-LOCATION:Europe/Berlin
BEGIN:DAYLIGHT
DTSTART:20180325T030000
TZOFFSETFROM:+0100
TZOFFSETTO:+0200
TZNAME:CEST
END:DAYLIGHT
END:VTIMEZONE
END:VCALENDAR