
BEGIN:VCALENDAR
VERSION:2.0
PRODID:-//wp-events-plugin.com//7.2.3.1//EN
TZID:Europe/Berlin
X-WR-TIMEZONE:Europe/Berlin
BEGIN:VEVENT
UID:415@zbbs-sh.de
DTSTART;TZID=Europe/Berlin:20190329T160000
DTEND;TZID=Europe/Berlin:20190329T200000
DTSTAMP:20230619T135343Z
URL:https://www.zbbs-sh.de/events/internationale-kochrunde-9/
SUMMARY:Internationale Kochrunde
DESCRIPTION:Im Vorwege wird besprochen\, wer für den nächsten Kochtermin 
 verantwortlich ist. Das heißt\, ein bis mehrere Personen überlegen sich\
 , was beim nächsten Mal gekocht werden soll und kaufen dafür ein. Geschn
 ippelt\, gekocht und aufgeräumt wird gemeinsam\, GEGESSEN natürlich auch
 ! Die Ausgaben werden auf alle umgelegt\, für Kinder muss nichts gezahlt 
 werden. Wenn gewünscht und genug Zeit\, wird gespielt. Gemeinsam entschei
 den wir\, wie der Nachmittag gestaltet wird.\nWir freuen uns auf einen kul
 inarischen\, anregten Austausch!\nAlle sind willkommen\, sollten sich aber
  bitte mindestens einen Tag vorher unter folgender Nummer anmelden\, damit
  wir wissen für wie viele Personen eingekauft werden muss:\n0176 76902809
 \n\n
CATEGORIES:Veranstaltung
LOCATION:Online\, \, Deutschland
X-APPLE-STRUCTURED-LOCATION;VALUE=URI;X-ADDRESS=\, Deutschland;X-APPLE-RADI
 US=100;X-TITLE=Online:geo:0,0
END:VEVENT
BEGIN:VTIMEZONE
TZID:Europe/Berlin
X-LIC-LOCATION:Europe/Berlin
BEGIN:STANDARD
DTSTART:20181028T020000
TZOFFSETFROM:+0200
TZOFFSETTO:+0100
TZNAME:CET
END:STANDARD
END:VTIMEZONE
END:VCALENDAR