
BEGIN:VCALENDAR
VERSION:2.0
PRODID:-//wp-events-plugin.com//7.2.3.1//EN
TZID:Europe/Berlin
X-WR-TIMEZONE:Europe/Berlin
BEGIN:VEVENT
UID:566@zbbs-sh.de
DTSTART;TZID=Europe/Berlin:20171021T120000
DTEND;TZID=Europe/Berlin:20171021T180000
DTSTAMP:20230619T135528Z
URL:https://www.zbbs-sh.de/events/jemenitischer-kulturtag/
SUMMARY:Jemenitischer Kulturtag
DESCRIPTION:\n\n&nbsp\;\n\nDer Verein Jemenitische Studenten in Deutschland
  (VJSD) und die Jemenitische Gemeinde in Schleswig-Holstein und Hamburg la
 den zu folgender Veranstaltung ein:\n\n"Unter dem Motto aus Belqisland (au
 s dem Land der Königin von Saba) organisiert Verein jemenitischer Student
 en in Deutschland (VJSD) im Zusammenarbeit mit der jemenitischen Gemeinde 
 in Schleswig-Holstein und Hamburg am 21.10.2017 den jemenitischen Kulturta
 g in Audimax Uni Kiel\, an welchem wir die Kultur unserer Heimatland oder 
 Heimatregion der deutsche Gesellschaft präsentieren und näher bringen k
 önnen.\n\nDazu möchten wir euch hiermit herzlich einladen.\n\n\nMit Hilf
 e eines spannenden und abwechslungsreichen Programms\, das von Literatur 
 über Kunst\, Modenschau mit landestypischer Kleidung \,Musik und Tanz bis
  hin zu Filmkunst reicht\, sollen interessante Einblicke in die Kulturen\,
  die in dem Jemen vertreten sind\, präsentiert werden.\n\n\nZielgruppen:\
 n\n- Alle Jemenitischen (Studierende، Flüchtlinge und Gäste) in Deutsch
 land.\n\n- Alle Organisationen، Gemeinden und Personen، die sich der fü
 r den Jemen interessieren.\n\nSowohl die Besichtigung der Galerie\, als a
 uch die Veranstaltung ist kostenfrei und jede Person\, die sich von der Fr
 eude und Interesse anstecken lassen möchte\, ist herzlich eingeladen.\n\n
 Treffpunkt ist um 10.00 Uhr zum Aufbauen\, die Veranstaltung dauert von 12
  bis 18.00 Uhr.\n\nWir freuen uns auf Euch!"\n\n
LOCATION:Rathaus\, Norderstedt\, Rathausallee 50\, Norderstedt\, Schleswig-
 Holstein\, Deutschland
GEO:47.4;1.6
X-APPLE-STRUCTURED-LOCATION;VALUE=URI;X-ADDRESS=Rathausallee 50\, Norderste
 dt\, Schleswig-Holstein\, Deutschland;X-APPLE-RADIUS=100;X-TITLE=Rathaus\,
  Norderstedt:geo:47.4,1.6
END:VEVENT
BEGIN:VTIMEZONE
TZID:Europe/Berlin
X-LIC-LOCATION:Europe/Berlin
BEGIN:DAYLIGHT
DTSTART:20170326T030000
TZOFFSETFROM:+0100
TZOFFSETTO:+0200
TZNAME:CEST
END:DAYLIGHT
END:VTIMEZONE
END:VCALENDAR