
BEGIN:VCALENDAR
VERSION:2.0
PRODID:-//wp-events-plugin.com//7.2.3.1//EN
TZID:Europe/Berlin
X-WR-TIMEZONE:Europe/Berlin
BEGIN:VEVENT
UID:1782@zbbs-sh.de
DTSTART;TZID=Europe/Berlin:20241208T140000
DTEND;TZID=Europe/Berlin:20241208T153000
DTSTAMP:20241203T102604Z
URL:https://www.zbbs-sh.de/events/netzwerk-kuenstlerinnen-fuer-demokratie/
SUMMARY:Netzwerk Künstler*innen für Demokratie
DESCRIPTION:Wir starten ein Netzwerk für alle Künstler*innen aus Kiel und
  Umgebung – und Du bist eingeladen!\n\n🗓 Wann? Sonntag\, 08.12.24 | 1
 4:00–15:30 Uhr\n📍 Wo? Werftparktheater\, Ostring 187 A\, 24143 Kiel\n
 \nKunst braucht Freiheit und Unterstützung – und wir brauchen Dich! Sei
  dabei\, wenn wir durch kreative Methoden gemeinsam die Kieler Kunstszene 
 stärken.\n\n✨ Komm vorbei\, bring deine Ideen mit – und lass uns geme
 insam etwas bewegen!\n\n👉*Lasst uns kreativ und aktiv werden!\n&nbsp\;
ATTACH;FMTTYPE=image/jpeg:https://www.zbbs-sh.de/wp-content/uploads/2024/1
 2/1.jpeg
CATEGORIES:Veranstaltung
LOCATION:Werftparktheater\, Ostring 187a\, Kiel\, Schleswig-Holstein\, 2414
 3\, Deutschland
GEO:54.314052;10.155929
X-APPLE-STRUCTURED-LOCATION;VALUE=URI;X-ADDRESS=Ostring 187a\, Kiel\, Schle
 swig-Holstein\, 24143\, Deutschland;X-APPLE-RADIUS=100;X-TITLE=Werftparkth
 eater:geo:54.314052,10.155929
END:VEVENT
BEGIN:VTIMEZONE
TZID:Europe/Berlin
X-LIC-LOCATION:Europe/Berlin
BEGIN:STANDARD
DTSTART:20241027T020000
TZOFFSETFROM:+0200
TZOFFSETTO:+0100
TZNAME:CET
END:STANDARD
END:VTIMEZONE
END:VCALENDAR