
BEGIN:VCALENDAR
VERSION:2.0
PRODID:-//wp-events-plugin.com//7.2.3.1//EN
TZID:Europe/Berlin
X-WR-TIMEZONE:Europe/Berlin
BEGIN:VEVENT
UID:1725@zbbs-sh.de
DTSTART;TZID=Europe/Berlin:20241110T170000
DTEND;TZID=Europe/Berlin:20241110T170000
DTSTAMP:20241030T180539Z
URL:https://www.zbbs-sh.de/events/playbacktheater-faces-of-change-beleucht
 en-geschichten-hinter-stolpersteinen-2/
SUMMARY:Playbacktheater Faces of Change: BELEUCHTEN - Geschichten hinter St
 olpersteinen
DESCRIPTION:BELEUCHTEN - Geschichten hinter Stolpersteinen\n\nDurch Schausp
 iel\, Schattenspiel und Livemusik erzählen wir die tragischen Lebensgesch
 ichten von vier Menschen aus Kiel\, die auf Stolpersteinen verewigt sind. 
 Danach spielt Faces Of Change\, das Playback Theaterensemble\, was euch be
 wegt auf der Bühne. Der Abend wird mit Livemusik begleitet.\n\n📍 Werft
 parktheater\, Ostring 187 A\, 24143 Kiel\n📅 Aufführungstermine:\nSa 09
 .11.24 - 17:00 Uhr\nSo 10.11.24 - 17:00 Uhr\n\nDer Eintritt ist kostenfrei
 ! Meldet euch gerne an unter: krogmann@zbbs-sh.de\n\nFoto: Struck\, Werftp
 arktheater\n„Faces Of Change“
ATTACH;FMTTYPE=image/jpeg:https://www.zbbs-sh.de/wp-content/uploads/2024/1
 0/Druckversion-Einladung-Beleuchten.png
CATEGORIES:Veranstaltung
LOCATION:Werftparktheater\, Ostring 187a\, Kiel\, Schleswig-Holstein\, 2414
 3\, Deutschland
GEO:54.314052;10.155929
X-APPLE-STRUCTURED-LOCATION;VALUE=URI;X-ADDRESS=Ostring 187a\, Kiel\, Schle
 swig-Holstein\, 24143\, Deutschland;X-APPLE-RADIUS=100;X-TITLE=Werftparkth
 eater:geo:54.314052,10.155929
END:VEVENT
BEGIN:VTIMEZONE
TZID:Europe/Berlin
X-LIC-LOCATION:Europe/Berlin
BEGIN:STANDARD
DTSTART:20241027T020000
TZOFFSETFROM:+0200
TZOFFSETTO:+0100
TZNAME:CET
END:STANDARD
END:VTIMEZONE
END:VCALENDAR