
BEGIN:VCALENDAR
VERSION:2.0
PRODID:-//wp-events-plugin.com//7.2.3.1//EN
TZID:Europe/Berlin
X-WR-TIMEZONE:Europe/Berlin
BEGIN:VEVENT
UID:1704@zbbs-sh.de
DTSTART;TZID=Europe/Berlin:20241014T150000
DTEND;TZID=Europe/Berlin:20241014T180000
DTSTAMP:20250331T144519Z
URL:https://www.zbbs-sh.de/events/regenbogen-am-vinetaplatz-2024-10-14/
SUMMARY:Regenbogen am Vinetaplatz
DESCRIPTION:Blumenkübel am Vietaplatz bemalen und LIVE-Musik!
CATEGORIES:ZEIK
LOCATION:Vinetaplatz\, Vinetaplatz\, Kiel\, Schleswig-Holstein\, 24143\, De
 utschland
GEO:47.4;1.6
X-APPLE-STRUCTURED-LOCATION;VALUE=URI;X-ADDRESS=Vinetaplatz\, Kiel\, Schles
 wig-Holstein\, 24143\, Deutschland;X-APPLE-RADIUS=100;X-TITLE=Vinetaplatz:
 geo:47.4,1.6
END:VEVENT
BEGIN:VTIMEZONE
TZID:Europe/Berlin
X-LIC-LOCATION:Europe/Berlin
BEGIN:DAYLIGHT
DTSTART:20240331T030000
TZOFFSETFROM:+0100
TZOFFSETTO:+0200
TZNAME:CEST
END:DAYLIGHT
END:VTIMEZONE
END:VCALENDAR