
BEGIN:VCALENDAR
VERSION:2.0
PRODID:-//wp-events-plugin.com//7.2.3.1//EN
TZID:Europe/Berlin
X-WR-TIMEZONE:Europe/Berlin
BEGIN:VEVENT
UID:1592@zbbs-sh.de
DTSTART;TZID=Europe/Berlin:20240519T150000
DTEND;TZID=Europe/Berlin:20240519T150000
DTSTAMP:20240515T203655Z
URL:https://www.zbbs-sh.de/events/theatervorstellung-monika-haeger-inside-
 stasi/
SUMMARY:Theatervorstellung: Monika Haeger - Inside Stasi
DESCRIPTION:MONIKA HAEGER - INSIDE STASI\n\nEine Stasi-Agentin berichtet\nD
 DR-Aufarbeitung/ Geschichte\n\n19. MAI 2024 | 15.00 UHR\nFlandernbunker\nH
 indenburgufer 275 | 24106 Kiel\n\nText\, Regie:\nNicole Heinrich\nSchauspi
 el:\nAnja Kimmelmann\n\nInfos: www.nicoleheinrich.com\n\nMonika Haeger Ins
 ide Stasi ist ein Doku-Theaterstück\, angelegt als Monodrama\, das in ein
 em interaktiven Stasi-Museum spielt. Die Handlung\, die Haegers Monolog zu
 grunde liegt\, ist teils dokumentarisch\, teils fiktiv.\n\nMonika Haeger l
 ebte von 1945 bis 2006 und stieg vom Heimkind zu einer wichtigen Mitarbeit
 erin der Stasi empor\, die getarnt als enge Freundin der Bürgerrechtlerin
  Bärbel Bohley eine wichtige Ost-Berliner Frauengruppe ausspionierte.\n\n
 Die Ex-Stasi-Agentin Monika Haeger erzählt von ihrer Arbeit in der DDR-Op
 position. Dabei verriet sie jahrelang Freundinnen an die Stasi\, was oft v
 erheerende Folgen für die Frauen hatte. Verhaftungen\, Verhöre und sogar
  Ausbürgerung aus der DDR waren traumatische Erlebnisse. Auch setzte die 
 Stasi psychologische und sogenannte weiße Folter ein.\n\nHaegers Erzählu
 ng klingt mitreißend\, charismatisch und auch verharmlosend\, dazu hält 
 sie ihr Handeln\, auch unmenschliches\, für absolut gerechtfertigt\, da s
 ie stets „auf der richtigen Seite“ stand und immer nur „das Beste f
 ür alle Menschen“ wollte.\n\nPassend zu Haegers Monolog werden Audioauf
 nahmen von Betroffenen des Stasi-Unrechtes eingespielt\, die das Unmenschl
 iche entlarven.\n\nAuch wird Haeger Monolog an einigen Stellen durch Ton-A
 nalogien der Gegenwart unterbrochen\, die ihre Haltung widerspiegeln. Dabe
 i zeigt sich: Auch heute steckt in uns „Haeger-Haltung“. Haeger-Haltun
 g ist\, wenn man seine Ideologie ohne Rücksicht auf Verluste durchsetzen 
 will\, weil man glaubt für etwas Besseres zu handeln. Aber egal wie gut o
 der richtig eine Haltung auch sein mag\, der Kern einer Unmenschlichkeit b
 leibt\, wenn man sie unerbittlich durchsetzen will.
ATTACH;FMTTYPE=image/jpeg:https://www.zbbs-sh.de/wp-content/uploads/2024/0
 5/Theatervorstellung.png
CATEGORIES:Veranstaltung
LOCATION:Flandernbunker\, Hindenburgufer 275\, Kiel\, 24106\, Deutschland
GEO:54.355213;10.135751
X-APPLE-STRUCTURED-LOCATION;VALUE=URI;X-ADDRESS=Hindenburgufer 275\, Kiel\,
  24106\, Deutschland;X-APPLE-RADIUS=100;X-TITLE=Flandernbunker:geo:54.3552
 13,10.135751
END:VEVENT
BEGIN:VTIMEZONE
TZID:Europe/Berlin
X-LIC-LOCATION:Europe/Berlin
BEGIN:DAYLIGHT
DTSTART:20240331T030000
TZOFFSETFROM:+0100
TZOFFSETTO:+0200
TZNAME:CEST
END:DAYLIGHT
END:VTIMEZONE
END:VCALENDAR